BEGIN:VCALENDAR
VERSION:2.0
PRODID:-//www.tarrantliteracycoalition.org//NONSGML kigkonsult.se iCalcreat
 or 2.30.10//
CALSCALE:GREGORIAN
METHOD:PUBLISH
UID:5012c62e-d712-4c21-9f1f-f8409081848f
X-WR-CALDESC:Join us for our annual Big Book Giveaway! Last year\, during t
 he height of the Pandemic\, we gave away more than $3\,800 worth of curric
 ulum\, supplemental instructional material\, and even pleasure reading to 
 a handful of teachers and programs in Tarrant County. This year\, we hope 
 to give away even more! We've got rooms full of great books\, including mo
 re than 1\,500 books and media from TCALL's physical collection\, and we'r
 e giving them all away for free! And as is our custom\, we will also have 
 holiday treats and hot drinks that can be eaten on-site or packed up to go
 \, and the first 20 attendees will receive a tote bag from Half Price Book
 s to take away your haul. No registration is required.\n\nMark your calend
 ars\n\nand we hope to see you November 19!
X-WR-RELCALID:1cbccd44d58accac5fae6982970006e0
X-WR-TIMEZONE:America/Chicago
BEGIN:VTIMEZONE
TZID:America/Chicago
BEGIN:STANDARD
TZNAME:CST
DTSTART:20211107T020000
TZOFFSETFROM:-0500
TZOFFSETTO:-0600
RDATE:20221106T020000
END:STANDARD
BEGIN:DAYLIGHT
TZNAME:CDT
DTSTART:20210314T020000
TZOFFSETFROM:-0600
TZOFFSETTO:-0500
RDATE:20220313T020000
RDATE:20230312T020000
END:DAYLIGHT
END:VTIMEZONE
BEGIN:VEVENT
UID:11ef7801-569c-4a20-8374-f0aeb39d6c36
DTSTAMP:20260421T064603Z
DESCRIPTION:Join us for our annual Big Book Giveaway! Last year\, during th
 e height of the Pandemic\, we gave away more than $3\,800 worth of curricu
 lum\, supplemental instructional material\, and even pleasure reading to a
  handful of teachers and programs in Tarrant County. This year\, we hope t
 o give away even more! We've got rooms full of great books\, including mor
 e than 1\,500 books and media from TCALL's physical collection\, and we're
  giving them all away for free! And as is our custom\, we will also have h
 oliday treats and hot drinks that can be eaten on-site or packed up to go\
 , and the first 20 attendees will receive a tote bag from Half Price Books
  to take away your haul. No registration is required.\n\nMark your calenda
 rs\n\nand we hope to see you November 19!
DTSTART;TZID=America/Chicago:20211119T080000
DTEND;TZID=America/Chicago:20211119T140000
LOCATION:3954 Southwest Blvd.\, Henderson Hall\, Agape Baptist Church\, For
 t Worth\, TX 76116 US
SUMMARY:2021 Big Book Giveaway!
END:VEVENT
END:VCALENDAR
