BEGIN:VCALENDAR
VERSION:2.0
PRODID:-//www.tarrantliteracycoalition.org//NONSGML kigkonsult.se iCalcreat
 or 2.30.10//
CALSCALE:GREGORIAN
METHOD:PUBLISH
UID:ff35df59-0b30-46c6-a468-ce08a8a5ad61
X-WR-CALDESC:The Adult Education Center in Pearland and Literacy Texas are 
 excited to bring you the Gulf Coast Literacy Symposium: a day-long profess
 ional development event focusing on a variety of topics (session schedule 
 to be released a month prior to the event - so check back with us soon). Y
 ou'll be able to engage with exhibitors\, literacy leaders\, and colleague
 s from across the state. You won't want to miss this FREE symposium\, so m
 ark your calendar and join Tarrant Literacy Coalition there!
X-WR-RELCALID:d30f9f60c694cd29abd6ccb932f8e452
X-WR-TIMEZONE:America/Chicago
BEGIN:VTIMEZONE
TZID:America/Chicago
BEGIN:STANDARD
TZNAME:CST
DTSTART:20201101T020000
TZOFFSETFROM:-0500
TZOFFSETTO:-0600
RDATE:20211107T020000
RDATE:20221106T020000
END:STANDARD
BEGIN:DAYLIGHT
TZNAME:CDT
DTSTART:20210314T020000
TZOFFSETFROM:-0600
TZOFFSETTO:-0500
RDATE:20220313T020000
END:DAYLIGHT
END:VTIMEZONE
BEGIN:VEVENT
UID:fd070ab7-785b-490c-bdc3-34c44ba5b12b
DTSTAMP:20260421T140758Z
DESCRIPTION:The Adult Education Center in Pearland and Literacy Texas are e
 xcited to bring you the Gulf Coast Literacy Symposium: a day-long professi
 onal development event focusing on a variety of topics (session schedule t
 o be released a month prior to the event - so check back with us soon). Yo
 u'll be able to engage with exhibitors\, literacy leaders\, and colleagues
  from across the state. You won't want to miss this FREE symposium\, so ma
 rk your calendar and join Tarrant Literacy Coalition there!
DTSTART;TZID=America/Chicago:20210724T080000
DTEND;TZID=America/Chicago:20210724T160000
LOCATION:Online Symposium via Zoom
SUMMARY:Gulf Coast Literacy Symposium
END:VEVENT
END:VCALENDAR
