BEGIN:VCALENDAR
VERSION:2.0
PRODID:-//www.tarrantliteracycoalition.org//NONSGML kigkonsult.se iCalcreat
 or 2.30.10//
CALSCALE:GREGORIAN
METHOD:PUBLISH
UID:274ac861-58c9-4a91-ae1f-aea97b01ed28
X-WR-CALDESC:What a difference a year makes?\n\nIn some ways yes but in man
 y other ways things are the same as they ever were.  In July of 2020\, we 
 brought in Kevin von Atzigen to speak to teachers about some simple techni
 ques that could be used with students and personally to help alleviate fin
 ancial stress during the early months in the pandemic. And as vaccines rol
 l out and restrictions are lifted\, people still have many concerns and id
 eas about stretching financial resources. Even so\, financial concerns tha
 t our students face still impact our programs' viability. Questions still 
 exist about how we can help alleviate students' worries when we educators 
 are also facing the same uncertainty?\n\nThis July\, we are revisiting our
  Financial Literacy session to answer some new questions that have arisen 
 and reviewing previously provided practical tools that you can use in your
  own life and can easily adapt to your HSE or ESL programs. Kevin von Atzi
 gen\, Vice President at UMB Bank\, returns to share his personal experienc
 es and approach to financial basics have helped individuals and businesses
  become financially secure.\n\nRegistration opens on June 4\, so mark your
  calendars and join us for this much-needed training even!\n\nZoom link an
 d sample worksheets will be sent prior to the event.\nProfessional develop
 ment credit is available and certificates will be sent after the Forum.
X-WR-RELCALID:246e554960266f01e3cb54cf1626eaaa
X-WR-TIMEZONE:America/Chicago
BEGIN:VTIMEZONE
TZID:America/Chicago
BEGIN:STANDARD
TZNAME:CST
DTSTART:20201101T020000
TZOFFSETFROM:-0500
TZOFFSETTO:-0600
RDATE:20211107T020000
RDATE:20221106T020000
END:STANDARD
BEGIN:DAYLIGHT
TZNAME:CDT
DTSTART:20210314T020000
TZOFFSETFROM:-0600
TZOFFSETTO:-0500
RDATE:20220313T020000
END:DAYLIGHT
END:VTIMEZONE
BEGIN:VEVENT
UID:7a79e339-cc4d-4228-a753-fbf4189424d9
DTSTAMP:20260421T135925Z
DESCRIPTION:What a difference a year makes?\n\nIn some ways yes but in many
  other ways things are the same as they ever were.  In July of 2020\, we b
 rought in Kevin von Atzigen to speak to teachers about some simple techniq
 ues that could be used with students and personally to help alleviate fina
 ncial stress during the early months in the pandemic. And as vaccines roll
  out and restrictions are lifted\, people still have many concerns and ide
 as about stretching financial resources. Even so\, financial concerns that
  our students face still impact our programs' viability. Questions still e
 xist about how we can help alleviate students' worries when we educators a
 re also facing the same uncertainty?\n\nThis July\, we are revisiting our 
 Financial Literacy session to answer some new questions that have arisen a
 nd reviewing previously provided practical tools that you can use in your 
 own life and can easily adapt to your HSE or ESL programs. Kevin von Atzig
 en\, Vice President at UMB Bank\, returns to share his personal experience
 s and approach to financial basics have helped individuals and businesses 
 become financially secure.\n\nRegistration opens on June 4\, so mark your 
 calendars and join us for this much-needed training even!\n\nZoom link and
  sample worksheets will be sent prior to the event.\nProfessional developm
 ent credit is available and certificates will be sent after the Forum.
DTSTART;TZID=America/Chicago:20210702T090000
DTEND;TZID=America/Chicago:20210702T103000
LOCATION:Online meeting via Zoom
SUMMARY:First Friday Forum: Financial Literacy Revisited
END:VEVENT
END:VCALENDAR
