BEGIN:VCALENDAR
VERSION:2.0
PRODID:-//www.tarrantliteracycoalition.org//NONSGML kigkonsult.se iCalcreat
 or 2.30.10//
CALSCALE:GREGORIAN
METHOD:PUBLISH
UID:c16df71f-cfbf-40a6-b7fd-900c189d35a3
X-WR-CALDESC:The immigration process and the US Citizenship exam have chang
 ed considerably in the last few years. Different administrations enact dif
 fering policies\, and for teachers working in adult education\, these cons
 tantly changing policies can be confusing and finding appropriate resource
 s to serve ESL and Citizenship students can be equally confusing. \n\nWhat
  is the status of DACA? What is the 2020 Citizenship test\, or the 2008 Ci
 tizenship test and which one is taken? What is required it receive a perma
 nent resident card? What kinds of fees need to be paid\, and are their any
  options available for those who can't afford the fees? These are but a fe
 w frequently asked questions that make a big difference in the lives of ou
 r immigration population.\n\nThis month\, you'll receive answers to these 
 questions and so much more. Join Xergio Chacin\, Director of Immigration S
 ervices for Catholic Charities of Fort Worth\, as he provides a brief over
 view of how people immigrate into the US\, and how they become US citizens
 . He will also discuss the current state of the field of Immigration\, and
  the most recent changes that affect those students who you are more likel
 y to come across in your ESL classes or ministries. Lastly\, Xergio will s
 hare resources that can be used with learners in and out of the classroom.
 \n\nRegistration for this class will open on May 7\, and is completely fre
 e. Professional Development certificates will be provided to attendees who
  need them. We hope you can join us!
X-WR-RELCALID:94d36513bd4c0250baf78a2bb0a02816
X-WR-TIMEZONE:America/Chicago
BEGIN:VTIMEZONE
TZID:America/Chicago
BEGIN:STANDARD
TZNAME:CST
DTSTART:20201101T020000
TZOFFSETFROM:-0500
TZOFFSETTO:-0600
RDATE:20211107T020000
RDATE:20221106T020000
END:STANDARD
BEGIN:DAYLIGHT
TZNAME:CDT
DTSTART:20210314T020000
TZOFFSETFROM:-0600
TZOFFSETTO:-0500
RDATE:20220313T020000
END:DAYLIGHT
END:VTIMEZONE
BEGIN:VEVENT
UID:f98bf4dc-1d8e-437a-bbf6-804dfbb2ff2a
DTSTAMP:20260421T155026Z
DESCRIPTION:The immigration process and the US Citizenship exam have change
 d considerably in the last few years. Different administrations enact diff
 ering policies\, and for teachers working in adult education\, these const
 antly changing policies can be confusing and finding appropriate resources
  to serve ESL and Citizenship students can be equally confusing. \n\nWhat 
 is the status of DACA? What is the 2020 Citizenship test\, or the 2008 Cit
 izenship test and which one is taken? What is required it receive a perman
 ent resident card? What kinds of fees need to be paid\, and are their any 
 options available for those who can't afford the fees? These are but a few
  frequently asked questions that make a big difference in the lives of our
  immigration population.\n\nThis month\, you'll receive answers to these q
 uestions and so much more. Join Xergio Chacin\, Director of Immigration Se
 rvices for Catholic Charities of Fort Worth\, as he provides a brief overv
 iew of how people immigrate into the US\, and how they become US citizens.
  He will also discuss the current state of the field of Immigration\, and 
 the most recent changes that affect those students who you are more likely
  to come across in your ESL classes or ministries. Lastly\, Xergio will sh
 are resources that can be used with learners in and out of the classroom.
 \n\nRegistration for this class will open on May 7\, and is completely fre
 e. Professional Development certificates will be provided to attendees who
  need them. We hope you can join us!
DTSTART;TZID=America/Chicago:20210604T090000
DTEND;TZID=America/Chicago:20210604T103000
LOCATION:Online meeting via Zoom
SUMMARY:First Friday Forum: A Brief overview of the US Immigration and Citi
 zenship System
END:VEVENT
END:VCALENDAR
