BEGIN:VCALENDAR
VERSION:2.0
PRODID:-//www.tarrantliteracycoalition.org//NONSGML kigkonsult.se iCalcreat
 or 2.30.10//
CALSCALE:GREGORIAN
METHOD:PUBLISH
UID:dbb24cbb-18c8-4593-a1c7-129a2e618ee8
X-WR-CALDESC:We all have biases\, whether we want to admit it or not. In th
 is month's Forum\, join Steven Reid\, Program Manager for Literacy Volunte
 ers Charlottesville/Albemarle in Charlottesville\, Virginia\, as he leads 
 a discussion on how the things we do and say are perceived by the people w
 e serve by looking at implicit biases based on race\, religion\, culture\,
  national origin\, immigration status\, gender identity\, and sexual orien
 tation. Steven will lead participants through a series of reflective activ
 ities and engaging conversation. By addressing how to create a safe and co
 mfortable learning environment for our students\, we can improve the learn
 ing outcomes of our students. You DON'T want to miss this thought-provokin
 g session that will greatly improve your adult education classrooms\, work
 places\, and everyday interactions.\n\nAs always\, the forum is free\, and
  teachers requiring Professional Development will receive a certificate of
  participation (PAL).\n\nJoin us!
X-WR-RELCALID:0fece1eccc8be91bb98b50ec4213e2c2
X-WR-TIMEZONE:America/Chicago
BEGIN:VTIMEZONE
TZID:America/Chicago
BEGIN:STANDARD
TZNAME:CST
DTSTART:20201101T020000
TZOFFSETFROM:-0500
TZOFFSETTO:-0600
RDATE:20211107T020000
RDATE:20221106T020000
END:STANDARD
BEGIN:DAYLIGHT
TZNAME:CDT
DTSTART:20210314T020000
TZOFFSETFROM:-0600
TZOFFSETTO:-0500
RDATE:20220313T020000
END:DAYLIGHT
END:VTIMEZONE
BEGIN:VEVENT
UID:c8669d85-7ff7-44b4-9211-e25992b8abe9
DTSTAMP:20260421T173342Z
DESCRIPTION:We all have biases\, whether we want to admit it or not. In thi
 s month's Forum\, join Steven Reid\, Program Manager for Literacy Voluntee
 rs Charlottesville/Albemarle in Charlottesville\, Virginia\, as he leads a
  discussion on how the things we do and say are perceived by the people we
  serve by looking at implicit biases based on race\, religion\, culture\, 
 national origin\, immigration status\, gender identity\, and sexual orient
 ation. Steven will lead participants through a series of reflective activi
 ties and engaging conversation. By addressing how to create a safe and com
 fortable learning environment for our students\, we can improve the learni
 ng outcomes of our students. You DON'T want to miss this thought-provoking
  session that will greatly improve your adult education classrooms\, workp
 laces\, and everyday interactions.\n\nAs always\, the forum is free\, and 
 teachers requiring Professional Development will receive a certificate of 
 participation (PAL).\n\nJoin us!
DTSTART;TZID=America/Chicago:20210507T090000
DTEND;TZID=America/Chicago:20210507T103000
LOCATION:Online meeting via Zoom
SUMMARY:First Friday Forum: Working with 'Those People': Does Implicit Bias
  Influence Our Teaching Without Us Realizing It?
END:VEVENT
END:VCALENDAR
