BEGIN:VCALENDAR
VERSION:2.0
PRODID:-//www.tarrantliteracycoalition.org//NONSGML kigkonsult.se iCalcreat
 or 2.30.10//
CALSCALE:GREGORIAN
METHOD:PUBLISH
UID:cea446eb-6fec-4fc8-9eaa-9ae8ec15bb17
X-WR-CALDESC:This virtual symposium is sponsored by Literacy Lubbock with t
 he support of Literacy Texas. They've put together a stellar line-up of ed
 ucated and experienced adult literacy speakers for this FREE adult educati
 on symposium. Register today and participate in sessions on teaching techn
 iques and opportunities for English as a Second Language\, Integrating Dig
 ital Literacy into Your Programs\, and Google Classroom Basic.  If you're 
 involved in adult education\, this is one symposium you can't afford to mi
 ss!\n\nLiteracy Lubbock is a Lubbock Area United Way Partner Agency. Our m
 ission is to execute and encourage programs dealing with education and lit
 eracy. We provide free GED prep services\, ESL classes\, and adult reading
  tutors to our adults in the South Plains area.\n\nWe hope you’ll join TLC
  for this virtual event\, and help share this valuable professional develo
 pment opportunity with teachers\, tutors\, volunteers\, and administrators
  across Texas and beyond!
X-WR-RELCALID:b046fe71c373cae7787b1583fcff43e5
X-WR-TIMEZONE:America/Chicago
BEGIN:VTIMEZONE
TZID:America/Chicago
BEGIN:STANDARD
TZNAME:CST
DTSTART:20201101T020000
TZOFFSETFROM:-0500
TZOFFSETTO:-0600
RDATE:20211107T020000
END:STANDARD
BEGIN:DAYLIGHT
TZNAME:CDT
DTSTART:20210314T020000
TZOFFSETFROM:-0600
TZOFFSETTO:-0500
RDATE:20220313T020000
END:DAYLIGHT
END:VTIMEZONE
BEGIN:VEVENT
UID:b768a93e-0a8a-4a2c-8df2-57fcb707a01d
DTSTAMP:20260421T191548Z
DESCRIPTION:This virtual symposium is sponsored by Literacy Lubbock with th
 e support of Literacy Texas. They've put together a stellar line-up of edu
 cated and experienced adult literacy speakers for this FREE adult educatio
 n symposium. Register today and participate in sessions on teaching techni
 ques and opportunities for English as a Second Language\, Integrating Digi
 tal Literacy into Your Programs\, and Google Classroom Basic.  If you're i
 nvolved in adult education\, this is one symposium you can't afford to mis
 s!\n\nLiteracy Lubbock is a Lubbock Area United Way Partner Agency. Our mi
 ssion is to execute and encourage programs dealing with education and lite
 racy. We provide free GED prep services\, ESL classes\, and adult reading 
 tutors to our adults in the South Plains area.\n\nWe hope you’ll join TLC 
 for this virtual event\, and help share this valuable professional develop
 ment opportunity with teachers\, tutors\, volunteers\, and administrators 
 across Texas and beyond!
DTSTART;TZID=America/Chicago:20210424T080000
DTEND;TZID=America/Chicago:20210424T160000
LOCATION:Online Symposium via Zoom
SUMMARY:2021 South Plains Literacy Symposium
END:VEVENT
END:VCALENDAR
