BEGIN:VCALENDAR
VERSION:2.0
PRODID:-//www.tarrantliteracycoalition.org//NONSGML kigkonsult.se iCalcreat
 or 2.30.10//
CALSCALE:GREGORIAN
METHOD:PUBLISH
UID:dc8d6782-9de2-4493-84b0-8fadd44907f4
X-WR-CALDESC:Millions of Texans are unable to read and write\, and Texas ra
 nks 47th nationwide in literacy. And if that wasn't shocking enough\, lite
 racy was one of the critical social services that tumbled during the COVID
  pandemic. Tarrant Literacy Coalition is partnering with Literacy Texas an
 d 28 hard-working literacy nonprofits from all across the state for a virt
 ual fundraiser supporting teaching and tutoring for thousands of Texans le
 arning to read\, write\, improve language\, become citizens\, earn a high 
 school equivalency certificate\, or gain skilled employment.\n\nJoin us fo
 r 'Lead with Literacy!' - a VERY special fundraiser that promises to be as
  engaging and fun as our annual Corporate Spelling Bee. The event will be 
 MC'ed by national radio host Krys Boyd\, of KERA’s call-in-radio program “
 Think\,” and will feature “A Way with Words” radio co-hosts and language e
 xperts\, Martha Barnette & Grant Barrett. For those unfamiliar with A Way 
 With Words\, the radio show and podcast examines language through the lens
  of family\, history\, and culture. The co-hosts believe in the power of w
 ords to hurt and to heal\, to teach respect for different cultures and peo
 ples\, and to just be downright fun.   \n\nWhen you purchase a 100% tax-de
 ductible ticket and select Tarrant Literacy Coalition\, we will receive al
 l funds raised.  Tickets are just $40\, but the entertainment received is 
 priceless!\n\nPlease join us for this first-of-its-kind interactive virtua
 l event that celebrates the joy of language and how the gift of literacy t
 ransforms lives.  Your participation will provide critical support to our 
 nonprofit as we continue working with adult learners and those who teach t
 hem across the state.
X-WR-RELCALID:246c913bf2d833922e2c47e4186beb21
X-WR-TIMEZONE:America/Chicago
BEGIN:VTIMEZONE
TZID:America/Chicago
BEGIN:STANDARD
TZNAME:CST
DTSTART:20201101T020000
TZOFFSETFROM:-0500
TZOFFSETTO:-0600
RDATE:20211107T020000
END:STANDARD
BEGIN:DAYLIGHT
TZNAME:CDT
DTSTART:20210314T020000
TZOFFSETFROM:-0600
TZOFFSETTO:-0500
RDATE:20220313T020000
END:DAYLIGHT
END:VTIMEZONE
BEGIN:VEVENT
UID:6908c81d-6762-4e95-bcb8-04f9535a285c
DTSTAMP:20260421T192421Z
DESCRIPTION:Millions of Texans are unable to read and write\, and Texas ran
 ks 47th nationwide in literacy. And if that wasn't shocking enough\, liter
 acy was one of the critical social services that tumbled during the COVID 
 pandemic. Tarrant Literacy Coalition is partnering with Literacy Texas and
  28 hard-working literacy nonprofits from all across the state for a virtu
 al fundraiser supporting teaching and tutoring for thousands of Texans lea
 rning to read\, write\, improve language\, become citizens\, earn a high s
 chool equivalency certificate\, or gain skilled employment.\n\nJoin us for
  'Lead with Literacy!' - a VERY special fundraiser that promises to be as 
 engaging and fun as our annual Corporate Spelling Bee. The event will be M
 C'ed by national radio host Krys Boyd\, of KERA’s call-in-radio program “T
 hink\,” and will feature “A Way with Words” radio co-hosts and language ex
 perts\, Martha Barnette & Grant Barrett. For those unfamiliar with A Way W
 ith Words\, the radio show and podcast examines language through the lens 
 of family\, history\, and culture. The co-hosts believe in the power of wo
 rds to hurt and to heal\, to teach respect for different cultures and peop
 les\, and to just be downright fun.   \n\nWhen you purchase a 100% tax-ded
 uctible ticket and select Tarrant Literacy Coalition\, we will receive all
  funds raised.  Tickets are just $40\, but the entertainment received is p
 riceless!\n\nPlease join us for this first-of-its-kind interactive virtual
  event that celebrates the joy of language and how the gift of literacy tr
 ansforms lives.  Your participation will provide critical support to our n
 onprofit as we continue working with adult learners and those who teach th
 em across the state.
DTSTART;TZID=America/Chicago:20210422T190000
DTEND;TZID=America/Chicago:20210422T201500
LOCATION:Virtual Event
SUMMARY:Lead with Literacy Virtual Fundraiser
END:VEVENT
END:VCALENDAR
