BEGIN:VCALENDAR
VERSION:2.0
PRODID:-//www.tarrantliteracycoalition.org//NONSGML kigkonsult.se iCalcreat
 or 2.30.10//
CALSCALE:GREGORIAN
METHOD:PUBLISH
UID:12b49dc0-e446-49c8-a865-bdf126984576
X-WR-CALDESC:Mahalia Baldini of the Texas Workforce Commission will lead a 
 panel of subject matter experts from the field of nonprofit literacy provi
 ders and federally-funded AEL literacy providers on collaborations between
  the two for mutually beneficial referrals that promote student success\, 
 regardless of which door they enter through!\n\nPanelists include Jauneen 
 Maldonado (Workforce Solutions for Tarrant County)\, Wes Young (Tarrant Li
 teracy Coalition)\, Federico Salas-Isnardi (Mayor's Office on Adult Litera
 cy\, Houston)\, and Melanie Fisk (BakerRipley) will share how collaboratio
 n can help reach more students\, reduce barriers\, and overcome a mindset 
 of 'competition for the same pool of adult learners.'\n\nThis event is per
 fect for nonprofit organization staff who are interested in reaching more 
 clients and showing their extra value to their federally-funded counterpar
 ts.\n\nThis event is free\, and registration is open now through the TCALL
  TRAIN PD Portal or through the Literacy Texas website (both links provide
 d here. Professional Development credit will be offered in the 'Other' cat
 egory.
X-WR-RELCALID:fcaa9a108530229de6066c2c29bfb401
X-WR-TIMEZONE:America/Chicago
BEGIN:VTIMEZONE
TZID:America/Chicago
BEGIN:STANDARD
TZNAME:CST
DTSTART:20201101T020000
TZOFFSETFROM:-0500
TZOFFSETTO:-0600
RDATE:20211107T020000
END:STANDARD
BEGIN:DAYLIGHT
TZNAME:CDT
DTSTART:20210314T020000
TZOFFSETFROM:-0600
TZOFFSETTO:-0500
RDATE:20220313T020000
END:DAYLIGHT
END:VTIMEZONE
BEGIN:VEVENT
UID:cddb5a8d-5b27-4b67-9483-e196b9a67fd9
DTSTAMP:20260421T192153Z
DESCRIPTION:Mahalia Baldini of the Texas Workforce Commission will lead a p
 anel of subject matter experts from the field of nonprofit literacy provid
 ers and federally-funded AEL literacy providers on collaborations between 
 the two for mutually beneficial referrals that promote student success\, r
 egardless of which door they enter through!\n\nPanelists include Jauneen M
 aldonado (Workforce Solutions for Tarrant County)\, Wes Young (Tarrant Lit
 eracy Coalition)\, Federico Salas-Isnardi (Mayor's Office on Adult Literac
 y\, Houston)\, and Melanie Fisk (BakerRipley) will share how collaboration
  can help reach more students\, reduce barriers\, and overcome a mindset o
 f 'competition for the same pool of adult learners.'\n\nThis event is perf
 ect for nonprofit organization staff who are interested in reaching more c
 lients and showing their extra value to their federally-funded counterpart
 s.\n\nThis event is free\, and registration is open now through the TCALL 
 TRAIN PD Portal or through the Literacy Texas website (both links provided
  here. Professional Development credit will be offered in the 'Other' cate
 gory.
DTSTART;TZID=America/Chicago:20210413T130000
DTEND;TZID=America/Chicago:20210413T140000
LOCATION:Online webinar via Zoom
SUMMARY:In the Spirit of Collaboration
END:VEVENT
END:VCALENDAR
