BEGIN:VCALENDAR
VERSION:2.0
PRODID:-//www.tarrantliteracycoalition.org//NONSGML kigkonsult.se iCalcreat
 or 2.30.10//
CALSCALE:GREGORIAN
METHOD:PUBLISH
UID:55a5a228-60a1-4d6a-a5b1-5ebec6297436
X-WR-CALDESC:Due to the holiday\, please join us on Friday\, March 26th for
  the April First Friday Forum - 'MyPlate and Meal Planning'
X-WR-RELCALID:4744864d7de39ab72b532eac182859dc
X-WR-TIMEZONE:America/Chicago
BEGIN:VTIMEZONE
TZID:America/Chicago
BEGIN:STANDARD
TZNAME:CST
DTSTART:20201101T020000
TZOFFSETFROM:-0500
TZOFFSETTO:-0600
RDATE:20211107T020000
END:STANDARD
BEGIN:DAYLIGHT
TZNAME:CDT
DTSTART:20210314T020000
TZOFFSETFROM:-0600
TZOFFSETTO:-0500
RDATE:20220313T020000
END:DAYLIGHT
END:VTIMEZONE
BEGIN:VEVENT
UID:12e13bcc-ffda-467e-a237-8c36e286203c
DTSTAMP:20260421T191916Z
DESCRIPTION:Due to the holiday\, please join us on Friday\, March 26th for 
 the April First Friday Forum - 'MyPlate and Meal Planning'
DTSTART;TZID=America/Chicago:20210402T000000
DTEND;TZID=America/Chicago:20210402T235900
LOCATION:
SUMMARY:First Friday Forum April - Moved to March 26th due to Good Friday h
 oliday
END:VEVENT
END:VCALENDAR
