BEGIN:VCALENDAR
VERSION:2.0
PRODID:-//www.tarrantliteracycoalition.org//NONSGML kigkonsult.se iCalcreat
 or 2.30.10//
CALSCALE:GREGORIAN
METHOD:PUBLISH
UID:d5d27543-e37e-476b-8cb6-7367d312f890
X-WR-CALDESC:Tarrant Literacy Coalition is happy to bring back our monthly 
 Forum Series\, bringing free training opportunities and resources to teach
 ers\, tutors and volunteers throughout the adult education community.\n\nS
 eptember's speaker is Juliana Owuori\, an adjunct instructor of ESL at Tar
 rant County College. Juliana knows\, like many other teachers\, that adult
  language learners face various challenges while trying to learn a second 
 language. Life concerns as well as negative past experiences might hinder 
 an adult learner’s complete engagement in class. \nThis presentation will 
 focus on ideas for promoting participation in the ESL classroom to maximiz
 e learner engagement. The presenter will demonstrate activities that have 
 been proven successful in her classroom experience. Participants will disc
 uss ways to adapt  activities to different levels and leave with concrete 
 strategies which can be applied to their next lesson.\n\nPlease join us fo
 r this incredible topic as we kickoff the return of the Forum Series!\n
X-WR-RELCALID:8b3970a41b1253cf01fd3280b28e12f6
X-WR-TIMEZONE:America/Chicago
BEGIN:VTIMEZONE
TZID:America/Chicago
BEGIN:STANDARD
TZNAME:CST
DTSTART:20181104T020000
TZOFFSETFROM:-0500
TZOFFSETTO:-0600
RDATE:20191103T020000
RDATE:20201101T020000
END:STANDARD
BEGIN:DAYLIGHT
TZNAME:CDT
DTSTART:20190310T020000
TZOFFSETFROM:-0600
TZOFFSETTO:-0500
RDATE:20200308T020000
RDATE:20210314T020000
END:DAYLIGHT
END:VTIMEZONE
BEGIN:VEVENT
UID:3c30c54a-0519-430c-9fe3-373c3f9eec87
DTSTAMP:20260422T011645Z
DESCRIPTION:Tarrant Literacy Coalition is happy to bring back our monthly F
 orum Series\, bringing free training opportunities and resources to teache
 rs\, tutors and volunteers throughout the adult education community.\n\nSe
 ptember's speaker is Juliana Owuori\, an adjunct instructor of ESL at Tarr
 ant County College. Juliana knows\, like many other teachers\, that adult 
 language learners face various challenges while trying to learn a second l
 anguage. Life concerns as well as negative past experiences might hinder a
 n adult learner’s complete engagement in class. \nThis presentation will f
 ocus on ideas for promoting participation in the ESL classroom to maximize
  learner engagement. The presenter will demonstrate activities that have b
 een proven successful in her classroom experience. Participants will discu
 ss ways to adapt  activities to different levels and leave with concrete s
 trategies which can be applied to their next lesson.\n\nPlease join us for
  this incredible topic as we kickoff the return of the Forum Series!\n
DTSTART;TZID=America/Chicago:20190920T090000
DTEND;TZID=America/Chicago:20190920T110000
LOCATION:George W. Hawkes Downtown Library (100 S. Center Street Arlington\
 , TX 76010)
SUMMARY:Friday Forum Series: Maximizing Engagement of Adult English Languag
 e Learners
END:VEVENT
END:VCALENDAR
